BEGIN:VCALENDAR
PRODID:-//eluceo/ical//2.0/EN
VERSION:2.0
CALSCALE:GREGORIAN
BEGIN:VEVENT
UID:a8d05be562f976b08bfe8febbd5cc0bb
DTSTAMP:20260420T165427Z
SUMMARY:Rosanne M. Leipzig - Honest Aging
DESCRIPTION:Tidewater Jewish Foundation\nCalendar\nhttps://foundation.jewis
 hva.org/calendar/rosanne-m-leipzig-honest-aging-448167\n\nRosanne M. Leipz
 ig - Honest Aging: An Insider&#39\;s Guide to the Second Half of Life\n\n
  
DTSTART;TZID=America/New_York:20240529T120000
DTEND;TZID=America/New_York:20240529T133000
END:VEVENT
END:VCALENDAR
