BEGIN:VCALENDAR
PRODID:-//eluceo/ical//2.0/EN
VERSION:2.0
CALSCALE:GREGORIAN
BEGIN:VEVENT
UID:323595e014d44714a4c65dba940d500d
DTSTAMP:20260422T145222Z
SUMMARY:Ruby Lion Luncheon - Invitation Only
DESCRIPTION:Tidewater Jewish Foundation\nCalendar\nhttps://foundation.jewis
 hva.org/calendar/ruby-lion-luncheon---invitation-only-1690404730-444231\n\
 nRuby Lion Luncheon - Place TBD - tentative date
DTSTART;TZID=America/New_York:20230911T113000
DTEND;TZID=America/New_York:20230911T133000
END:VEVENT
END:VCALENDAR
