BEGIN:VCALENDAR
PRODID:-//eluceo/ical//2.0/EN
VERSION:2.0
CALSCALE:GREGORIAN
BEGIN:VEVENT
UID:4825986a2622c0c8bad3d5e8dd7c7a0c
DTSTAMP:20260419T143503Z
SUMMARY:Running on Sand - Virginia Festival of Jewish Film
DESCRIPTION:Tidewater Jewish Foundation\nCalendar\nhttps://foundation.jewis
 hva.org/calendar/running-on-sand-virginia-festival-of-jewish-film-484247\n
 \n.video-container {\n    width: 100%\;\n    max-width: 640px\;\n  }\n  \n
   video {\n    width: 100%\;\n  }\n\n  @media (max-width: 768px) {\n    .v
 ideo-container {\n      max-width: 320px\;\n    }\n  }\n\nRunning on Sand\
 n\nAumari\, a young Eritrean refugee living in Israel\, is about to be dep
 orted back to his home country. After a spontaneous escape attempt at the 
 airport and a case of mistaken identity\, Aumari is assumed by Maccabi Net
 anya fans to be their new Nigerian soccer star. With no sporti...
DTSTART;TZID=America/New_York:20250216T143000
DTEND;TZID=America/New_York:20250216T163000
END:VEVENT
END:VCALENDAR
