BEGIN:VCALENDAR
PRODID:-//eluceo/ical//2.0/EN
VERSION:2.0
CALSCALE:GREGORIAN
BEGIN:VEVENT
UID:0bb4ea869d064c5c4a8eb6a8bdfbbcac
DTSTAMP:20260426T014903Z
SUMMARY:Sandler Family Campus Committee Meeting
DESCRIPTION:Tidewater Jewish Foundation\nCalendar\nhttps://foundation.jewis
 hva.org/calendar/sandler-family-campus-committee-meeting-1670946670-423657
 \n\nSandler Family Campus Committee Meeting in Kramer Board Room
DTSTART;TZID=America/New_York:20230120T120000
DTEND;TZID=America/New_York:20230120T140000
END:VEVENT
END:VCALENDAR
