BEGIN:VCALENDAR
PRODID:-//eluceo/ical//2.0/EN
VERSION:2.0
CALSCALE:GREGORIAN
BEGIN:VEVENT
UID:b4f63009db1958a09f4829448800d80b
DTSTAMP:20260422T020655Z
SUMMARY:Saturdays At Seven presents the 1952 film Ivanhoe
DESCRIPTION:Tidewater Jewish Foundation\nCalendar\nhttps://foundation.jewis
 hva.org/calendar/saturdays-at-seven-presents-the-1952-film-ivanhoe-1700090
 862-452339\n\nIvanhoe (1952) will be showing at 7:00 p.m. January 6\, 2024
  at The Jewish Museum and Cultural Center in Portsmouth\, VA
DTSTART;TZID=America/New_York:20231112T120000
DTEND;TZID=America/New_York:20231112T140000
END:VEVENT
END:VCALENDAR
