BEGIN:VCALENDAR
PRODID:-//eluceo/ical//2.0/EN
VERSION:2.0
CALSCALE:GREGORIAN
BEGIN:VEVENT
UID:e3189c344a2fd900380a3a410e62b145
DTSTAMP:20260422T020645Z
SUMMARY:Saturdays at Seven Presents the film Crossfire.
DESCRIPTION:Tidewater Jewish Foundation\nCalendar\nhttps://foundation.jewis
 hva.org/calendar/saturdays-at-seven-presents-the-film-crossfire-1700091183
 -452340\n\nThe Jewish Museum and Cultural Center will be showing the 1947 
 film Crossfire at 7:00 p.m. on Saturday\, January 13th at the museum locat
 ed at 607 Effingham Street in Portsmouth\, VA.  Rabbi Panitz of Temple Isr
 ael will introduce the film.\nThe movie is free\, though donations are app
 reciated.
DTSTART;TZID=America/New_York:20240113T190000
DTEND;TZID=America/New_York:20240113T210000
END:VEVENT
END:VCALENDAR
