BEGIN:VCALENDAR
PRODID:-//eluceo/ical//2.0/EN
VERSION:2.0
CALSCALE:GREGORIAN
BEGIN:VEVENT
UID:ac1277d85ba6db4fae5064e729597db1
DTSTAMP:20260426T014853Z
SUMMARY:Scholar-in-Residence @ Temple Israel - Gil Hoffman - Beyond the Hea
 dlines
DESCRIPTION:Tidewater Jewish Foundation\nCalendar\nhttps://foundation.jewis
 hva.org/calendar/scholar-in-residence--temple-israel---gil-hoffman---beyon
 d-the-headlines-1671594513-424175\n\nGil Hoffman is the executive director
  of HonestReporting.com. Previously\, he served as chief political corresp
 ondent and analyst for The Jerusalem Post for nearly 25 years.\n\nWell-con
 nected to Israeli and Palestinian leaders\, he has interviewed every major
  figure across the Israeli political spectrum\, has been interviewed by to
 p media on six continents and is a regular analyst on CNN\, Al-Jazeera and
  other news outlets.\n\nHe was raised in Chicago\, graduated Magna Cum Lau
 de from Northwestern...
DTSTART;TZID=America/New_York:20230212T160000
DTEND;TZID=America/New_York:20230212T180000
END:VEVENT
END:VCALENDAR
