BEGIN:VCALENDAR
PRODID:-//eluceo/ical//2.0/EN
VERSION:2.0
CALSCALE:GREGORIAN
BEGIN:VEVENT
UID:6b66d72c55df0509bc8e26e19cc55246
DTSTAMP:20260424T164318Z
SUMMARY:School Days Out
DESCRIPTION:Tidewater Jewish Foundation\nCalendar\nhttps://foundation.jewis
 hva.org/calendar/school-days-out-1694617963-448091\n\nStructured camp styl
 e days for K-5 graders when school is not in session. Each day includes cr
 afts\, sports\, swimming and fun.\n\nLearn More & Register
DTSTART;TZID=America/New_York:20231110T080000
DTEND;TZID=America/New_York:20231110T180000
END:VEVENT
END:VCALENDAR
