BEGIN:VCALENDAR
PRODID:-//eluceo/ical//2.0/EN
VERSION:2.0
CALSCALE:GREGORIAN
BEGIN:VEVENT
UID:4990ebba6c4683bec8bcf851d2ff0607
DTSTAMP:20260421T113954Z
SUMMARY:School Days Out
DESCRIPTION:Tidewater Jewish Foundation\nCalendar\nhttps://foundation.jewis
 hva.org/calendar/school-days-out-451464\n\nStructured camp style days for 
 K-5 graders when school is not in session. Each day includes crafts\, spor
 ts\, swimming and fun.\n\nLearn More & Register\n\nStructured camp style d
 ays for K-5 graders when school is not in session. Each day includes craft
 s\, sports\, swimming and fun.\n\n 
DTSTART;TZID=America/New_York:20240115T090000
DTEND;TZID=America/New_York:20240115T160000
END:VEVENT
END:VCALENDAR
