BEGIN:VCALENDAR
PRODID:-//eluceo/ical//2.0/EN
VERSION:2.0
CALSCALE:GREGORIAN
BEGIN:VEVENT
UID:0f0fe1cc0de571ac6f076fe5b9b33ebf
DTSTAMP:20260422T002647Z
SUMMARY:Scripture on the Silver Screen
DESCRIPTION:Tidewater Jewish Foundation\nCalendar\nhttps://foundation.jewis
 hva.org/calendar/scripture-on-the-silver-screen-447913\n\nWhat happens whe
 n a famous story is retold to a new audience? The retelling is usually a b
 lend of old and new. Whether done consciously or not\, the act of retellin
 g is often also an act of adaptation. Do the transformations inherent in r
 etelling also take place when the famous tale is a Bible story?\n\nIn this
  ten-session course\, we will learn how Hollywood retells a Bible story. W
 e will watch five films and analyze them.\n\nIn the course of our study\, 
 we will note a fascinating synthesis. Th...
DTSTART;TZID=America/New_York:20231031T110000
DTEND;TZID=America/New_York:20231031T123000
END:VEVENT
END:VCALENDAR
