BEGIN:VCALENDAR
PRODID:-//eluceo/ical//2.0/EN
VERSION:2.0
CALSCALE:GREGORIAN
BEGIN:VEVENT
UID:254840cb12b13dd031304102445765cd
DTSTAMP:20260421T110338Z
SUMMARY:Scripture on the Silver Screen – EXODUS: GODS and KINGS
DESCRIPTION:Tidewater Jewish Foundation\nCalendar\nhttps://foundation.jewis
 hva.org/calendar/scripture-on-the-silver-screen-exodus-gods-and-kings-4527
 56\n\nWhat happens when a famous story is retold to a new audience? The re
 telling is usually a blend of old and new. Whether done consciously or not
 \, the act of retelling is often also an act of adaptation. Do the transfo
 rmations inherent in retelling also take place when the famous tale is a B
 ible story?\n\nIn this ten-session course\, we will learn how Hollywood re
 tells a Bible story. We will watch five films and analyze them.\n\nIn the 
 course of our study\, we will note a fascinating synthesis. Th...
DTSTART;TZID=America/New_York:20240109T110000
DTEND;TZID=America/New_York:20240109T123000
END:VEVENT
END:VCALENDAR
