BEGIN:VCALENDAR
PRODID:-//eluceo/ical//2.0/EN
VERSION:2.0
CALSCALE:GREGORIAN
BEGIN:VEVENT
UID:6268df946125136909afdd3afedb85c3
DTSTAMP:20260425T005947Z
SUMMARY:Scripture on the Silver Screen – EXODUS:  GODS and KINGS
DESCRIPTION:Tidewater Jewish Foundation\nCalendar\nhttps://foundation.jewis
 hva.org/calendar/scripture-on-the-silver-screen_jan_16-452754\n\nWhat happ
 ens when a famous story is retold to a new audience? The retelling is usua
 lly a blend of old and new. Whether done consciously or not\, the act of r
 etelling is often also an act of adaptation. Do the transformations inhere
 nt in retelling also take place when the famous tale is a Bible story?\n\n
 In this ten-session course\, we will learn how Hollywood retells a Bible s
 tory. We will watch five films and analyze them.\n\nIn the course of our s
 tudy\, we will note a fascinating synthesis. Th...
DTSTART;TZID=America/New_York:20240116T110000
DTEND;TZID=America/New_York:20240116T123000
END:VEVENT
END:VCALENDAR
