BEGIN:VCALENDAR
PRODID:-//eluceo/ical//2.0/EN
VERSION:2.0
CALSCALE:GREGORIAN
BEGIN:VEVENT
UID:7059fdee034a622328e97bbf6fab0416
DTSTAMP:20260423T203937Z
SUMMARY:Secure Community Network Training - Be Aware
DESCRIPTION:Tidewater Jewish Foundation\nCalendar\nhttps://foundation.jewis
 hva.org/calendar/secure-community-network-training-be-aware-440800\n\nBe A
 ware\n\nClass: 6:00 PM -7:30 PM\nIncludes 5:30 PM dinner\, 6:00 PM Class 
  \n\nThis course offers information about the concepts of situational awa
 reness (SA) to better evaluate the potential risks around us. Techniques r
 elated to recalling important details and facts will be shared to improve 
 the participants ability to observe\, react to\, and report suspicious act
 ivity.\n\nTrainings are facilitated by Mike Goldsmith\, Secure Community N
 etwork Reginal Secuity Advisor for Tidewater\nRegistr...
DTSTART;TZID=America/New_York:20230807T180000
DTEND;TZID=America/New_York:20230807T193000
END:VEVENT
END:VCALENDAR
