BEGIN:VCALENDAR
PRODID:-//eluceo/ical//2.0/EN
VERSION:2.0
CALSCALE:GREGORIAN
BEGIN:VEVENT
UID:f9ccd2b5d8d56bba3f86687b83483ee0
DTSTAMP:20260423T053157Z
SUMMARY:Secure Community Network Training - Stop the Bleed
DESCRIPTION:Tidewater Jewish Foundation\nCalendar\nhttps://foundation.jewis
 hva.org/calendar/secure-community-network-training-stop-the-bleed-440811\n
 \nStop the Bleed\n\nClass: 6:00 PM – 7:30 PM\nIncludes 5:30 PM dinner\, 
 6:00 PM Class\n\nA life-impacting event can occur anytime and anywhere\, f
 rom a workplace to a commute. Loss of blood is one of the leading\, preven
 table causes of loss of life. This training will equip participants with t
 he knowledge to save lives. Developed in response to the call from the U.S
 . Department of Homeland Security to improve the chances of survival durin
 g an active threat or another mass casualty event\, this co...
DTSTART;TZID=America/New_York:20230809T180000
DTEND;TZID=America/New_York:20230809T193000
END:VEVENT
END:VCALENDAR
