BEGIN:VCALENDAR
PRODID:-//eluceo/ical//2.0/EN
VERSION:2.0
CALSCALE:GREGORIAN
BEGIN:VEVENT
UID:91132b2c2e9c70c69f1efe580e853f1f
DTSTAMP:20260423T160224Z
SUMMARY:Security Network Training - Be Aware
DESCRIPTION:Tidewater Jewish Foundation\nCalendar\nhttps://foundation.jewis
 hva.org/calendar/security-network-training-be-aware1-440801\n\nBe Aware\n\
 nClass: 9:00 AM – 11:00 AM\nIncludes 8:30 AM coffee and light breakfast\
 , 9:00 AM Class\n\nThis course offers information about the concepts of si
 tuational awareness (SA) to better evaluate the potential risks around us.
  Techniques related to recalling important details and facts will be share
 d to improve the participants ability to observe\, react to\, and report s
 uspicious activity.\n\nTrainings are facilitated by Mike Goldsmith\, Secur
 e Community Network Reginal Secuity Advisor fo...
DTSTART;TZID=America/New_York:20230831T090000
DTEND;TZID=America/New_York:20230831T110000
END:VEVENT
END:VCALENDAR
