BEGIN:VCALENDAR
PRODID:-//eluceo/ical//2.0/EN
VERSION:2.0
CALSCALE:GREGORIAN
BEGIN:VEVENT
UID:a3c7851e994ac4b739548d2886564227
DTSTAMP:20260423T204038Z
SUMMARY:Security Network Training - Countering Active Threat
DESCRIPTION:Tidewater Jewish Foundation\nCalendar\nhttps://foundation.jewis
 hva.org/calendar/security-network-training-countering-active-threat-440804
 \n\nCountering Active Threat\n\nClass: 6:00 PM – 8:00 PM\nIncludes 5:30 
 PM dinner\, 6:00 PM Class\n\nThe goal of this comprehensive training progr
 am developed for Jewish institutions is to provide participants with a bet
 ter understanding of active threats\, as well as—critically—potentiall
 y lifesaving response options.\n\nTrainings are facilitated by Mike Goldsm
 ith\, Secure Community Network Reginal Secuity Advisor for Tidewater\n\nRe
 gistration Required\n\nRegister Today
DTSTART;TZID=America/New_York:20230808T060000
DTEND;TZID=America/New_York:20230808T200000
END:VEVENT
END:VCALENDAR
