BEGIN:VCALENDAR
PRODID:-//eluceo/ical//2.0/EN
VERSION:2.0
CALSCALE:GREGORIAN
BEGIN:VEVENT
UID:403874c28c4018bee1693e0ec515c734
DTSTAMP:20260421T130236Z
SUMMARY:Senior's Club Meeting with Valerie Yanku
DESCRIPTION:Tidewater Jewish Foundation\nCalendar\nhttps://foundation.jewis
 hva.org/calendar/seniors-club-meeting-1706195015-458532\n\nSenior&#39\;s C
 lub Meeting with guest Valerie Yanku\, Photo Coach.
DTSTART;TZID=America/New_York:20240221T120000
DTEND;TZID=America/New_York:20240221T140000
END:VEVENT
END:VCALENDAR
