BEGIN:VCALENDAR
PRODID:-//eluceo/ical//2.0/EN
VERSION:2.0
CALSCALE:GREGORIAN
BEGIN:VEVENT
UID:5a9aca2b5063cd6a96633048b36dec17
DTSTAMP:20260420T130223Z
SUMMARY:Senior's Club Meeting
DESCRIPTION:Tidewater Jewish Foundation\nCalendar\nhttps://foundation.jewis
 hva.org/calendar/seniors-club-meeting-1706289963-458604\n\nStep into the t
 ime machine with our dynamic duo\, Maya and Naomi\, on March 20th for The 
 Sound of Israel.\n\nWe&#39\;re set to explore Israeli tunes spanning every
  decade\, from the state&#39\;s inception to the present. Join us for a s
 ession of listening\, watching\, and chatting about why these songs left t
 heir mark on Israeli culture.\n\nFeel free to bring along the name of an I
 sraeli song that has left its imprint on you to share with the group. It&#
 39\;s a musical journey you won&#39\;t want to miss!...
DTSTART;TZID=America/New_York:20240320T120000
DTEND;TZID=America/New_York:20240320T140000
END:VEVENT
END:VCALENDAR
