BEGIN:VCALENDAR
PRODID:-//eluceo/ical//2.0/EN
VERSION:2.0
CALSCALE:GREGORIAN
BEGIN:VEVENT
UID:ce4c880bf55663edaec077bea18ec1f8
DTSTAMP:20260422T184100Z
SUMMARY:Shabbat B'Yachad- Multi-Generational Chanukah Service and Dinner
DESCRIPTION:Tidewater Jewish Foundation\nCalendar\nhttps://foundation.jewis
 hva.org/calendar/shabbat-byachad--multi-generational-chanukah-service-and-
 dinner-1689776228-443417\n\n"B&#39\;Yachad" mean "together" and we are del
 ighted to welcome members of all generations and families of all types to 
 our Shabbat B&#39\;Yachad service!\n\nAdults (13+) $12/person\n(Family Max
 imum $50)\nChildren (12 & under) FREE\n\n5:30pm Pre-Neg & Registration\n6:
 00pm Multi-Generational Chanukah Shabbat Service\nfollowed by Shabbat Dinn
 er in Kaufman Hall\n\nThis event is open to the Tidewater Jewish Community
 .\nRSVPs are required!
DTSTART;TZID=America/New_York:20231208T173000
DTEND;TZID=America/New_York:20231208T203000
END:VEVENT
END:VCALENDAR
