BEGIN:VCALENDAR
PRODID:-//eluceo/ical//2.0/EN
VERSION:2.0
CALSCALE:GREGORIAN
BEGIN:VEVENT
UID:93b6d267f7fd48c06c4bd690aec19e23
DTSTAMP:20260422T015733Z
SUMMARY:Shabbat Together Uniting for Peace in Israel
DESCRIPTION:Tidewater Jewish Foundation\nCalendar\nhttps://foundation.jewis
 hva.org/calendar/shabbat-together-uniting-for-peace-in-israel-1700072265-4
 52285\n\nCome Together Series with KBH\, CBC & TE
DTSTART;TZID=America/New_York:20231117T180000
DTEND;TZID=America/New_York:20231117T193000
END:VEVENT
END:VCALENDAR
