BEGIN:VCALENDAR
PRODID:-//eluceo/ical//2.0/EN
VERSION:2.0
CALSCALE:GREGORIAN
BEGIN:VEVENT
UID:2d7ded6c74f9a61cf2e27176bc93f8dd
DTSTAMP:20260422T170706Z
SUMMARY:Shabbat with Chabad
DESCRIPTION:Tidewater Jewish Foundation\nCalendar\nhttps://foundation.jewis
 hva.org/calendar/shabbat-with-chabad-1698760849-451224\n\nCommunity Shabba
 t services and dinner
DTSTART;TZID=America/New_York:20231110T170000
DTEND;TZID=America/New_York:20231110T200000
END:VEVENT
END:VCALENDAR
