BEGIN:VCALENDAR
PRODID:-//eluceo/ical//2.0/EN
VERSION:2.0
CALSCALE:GREGORIAN
BEGIN:VEVENT
UID:973b69d7273d2cce6725b4ce58fcf9c5
DTSTAMP:20260425T134316Z
SUMMARY:Shabbat with Chabad
DESCRIPTION:Tidewater Jewish Foundation\nCalendar\nhttps://foundation.jewis
 hva.org/calendar/shabbat-with-chabad-1698769696-451255\n\nCommunity Shabba
 t services and dinner
DTSTART;TZID=America/New_York:20240105T170000
DTEND;TZID=America/New_York:20240105T200000
END:VEVENT
END:VCALENDAR
