BEGIN:VCALENDAR
PRODID:-//eluceo/ical//2.0/EN
VERSION:2.0
CALSCALE:GREGORIAN
BEGIN:VEVENT
UID:0efc632fa973c55bbd39b5d9fe35c2d8
DTSTAMP:20260423T022511Z
SUMMARY:Shabbat@Home - Lighting the Candles
DESCRIPTION:Tidewater Jewish Foundation\nCalendar\nhttps://foundation.jewis
 hva.org/calendar/shabbathome---blessing-of-the-children-1694458296-447924\
 n\nThe Shabbat@Home series consists of 5 interactive evenings for the enti
 re family\, with dinner included so that you don't need to think about coo
 king when you get home. In the first four sessions\, we will explore one a
 spect of hosting Shabbat dinner in your home for your family through conve
 rsation and crafting. You'll go home after each session with everything yo
 u need to add a new twist to your Friday nights. \n\nAt the end of the yea
 r\, we will pull together everything we learned during a...
DTSTART;TZID=America/New_York:20231017T173000
DTEND;TZID=America/New_York:20231017T190000
END:VEVENT
END:VCALENDAR
