BEGIN:VCALENDAR
PRODID:-//eluceo/ical//2.0/EN
VERSION:2.0
CALSCALE:GREGORIAN
BEGIN:VEVENT
UID:e67727a4be289efe1b833cff3b76b9bf
DTSTAMP:20260422T055436Z
SUMMARY:Shirlala Artist in Residency Weekend OST
DESCRIPTION:Tidewater Jewish Foundation\nCalendar\nhttps://foundation.jewis
 hva.org/calendar/shirlala-artist-in-residency-weekend-ost-1683231952-43708
 2\n\nOhef Sholom Temple and the United Jewish Federation of Tidewater are 
 excited to bring Parent’s Choice Award-winning Jewish sensation ShirLaLa
  to OST for a special Artist-in-Residence weekend. Shira Kline\, aka ShirL
 aLa\, travels across the country and internationally with her band\, deliv
 ering a dynamic\, interactive program of joy and spirit\, story\, and song
 .\n\nShira’s innovative approach was recognized by The Jewish Week when 
 they honored her as one of their "36 Under 36: The New Re-Engi...
DTSTART;TZID=America/New_York:20231027T173000
DTEND;TZID=America/New_York:20231029T110000
END:VEVENT
END:VCALENDAR
