BEGIN:VCALENDAR
PRODID:-//eluceo/ical//2.0/EN
VERSION:2.0
CALSCALE:GREGORIAN
BEGIN:VEVENT
UID:d2681525a6519a5b109e04f9d2aee22e
DTSTAMP:20260423T164103Z
SUMMARY:SIA 5th Grade Graduation
DESCRIPTION:Tidewater Jewish Foundation\nCalendar\nhttps://foundation.jewis
 hva.org/calendar/sia-5th-grade-graduation-1667415184-421103\n\nGraduation 
 of 5th grade
DTSTART;TZID=America/New_York:20230606T130000
DTEND;TZID=America/New_York:20230606T143000
END:VEVENT
END:VCALENDAR
