BEGIN:VCALENDAR
PRODID:-//eluceo/ical//2.0/EN
VERSION:2.0
CALSCALE:GREGORIAN
BEGIN:VEVENT
UID:9614100ff0ae955cf9f5456088872e3a
DTSTAMP:20260424T091204Z
SUMMARY:SIA Board Meeting
DESCRIPTION:Tidewater Jewish Foundation\nCalendar\nhttps://foundation.jewis
 hva.org/calendar/sia-board-meeting-1667414872-421101\n\nIn-person meeting
DTSTART;TZID=America/New_York:20230523T120000
DTEND;TZID=America/New_York:20230523T133000
END:VEVENT
END:VCALENDAR
