BEGIN:VCALENDAR
PRODID:-//eluceo/ical//2.0/EN
VERSION:2.0
CALSCALE:GREGORIAN
BEGIN:VEVENT
UID:42e66604889ba921a0d9781af8673f1d
DTSTAMP:20260420T083128Z
SUMMARY:SIA Board Meeting-SIA Miller Library
DESCRIPTION:Tidewater Jewish Foundation\nCalendar\nhttps://foundation.jewis
 hva.org/calendar/sia-board-meeting-sia-miller-library-1725034512-475882\n\
 nSIA Board Meeting-SIA Miller Library
DTSTART;TZID=America/New_York:20241119T120000
DTEND;TZID=America/New_York:20241119T130000
END:VEVENT
END:VCALENDAR
