BEGIN:VCALENDAR
PRODID:-//eluceo/ical//2.0/EN
VERSION:2.0
CALSCALE:GREGORIAN
BEGIN:VEVENT
UID:1a0606416aa05acea96e6900167de08e
DTSTAMP:20260423T135900Z
SUMMARY:SIA BOD Meeting
DESCRIPTION:Tidewater Jewish Foundation\nCalendar\nhttps://foundation.jewis
 hva.org/calendar/sia-bod-meeting-1688563254-442391\n\nBOD Meeting
DTSTART;TZID=America/New_York:20231128T120000
DTEND;TZID=America/New_York:20231128T130000
END:VEVENT
END:VCALENDAR
