BEGIN:VCALENDAR
PRODID:-//eluceo/ical//2.0/EN
VERSION:2.0
CALSCALE:GREGORIAN
BEGIN:VEVENT
UID:f26365eaf0a795fabed28c241c4ef8e7
DTSTAMP:20260421T130231Z
SUMMARY:SIA Evening of the Arts
DESCRIPTION:Tidewater Jewish Foundation\nCalendar\nhttps://foundation.jewis
 hva.org/calendar/sia-evening-of-the-arts-1702408839-453912\n\nSIA&#39\;s E
 vening of the Arts student performance.
DTSTART;TZID=America/New_York:20240215T180000
DTEND;TZID=America/New_York:20240215T200000
END:VEVENT
END:VCALENDAR
