BEGIN:VCALENDAR
PRODID:-//eluceo/ical//2.0/EN
VERSION:2.0
CALSCALE:GREGORIAN
BEGIN:VEVENT
UID:13283b9b8bd720e8c189b1a3635621dd
DTSTAMP:20260426T023732Z
SUMMARY:SIA Executive Meeting
DESCRIPTION:Tidewater Jewish Foundation\nCalendar\nhttps://foundation.jewis
 hva.org/calendar/sia-executive-meeting-1667413453-421088\n\nVirtual Meetin
 g
DTSTART;TZID=America/New_York:20230321T123000
DTEND;TZID=America/New_York:20230321T133000
END:VEVENT
END:VCALENDAR
