BEGIN:VCALENDAR
PRODID:-//eluceo/ical//2.0/EN
VERSION:2.0
CALSCALE:GREGORIAN
BEGIN:VEVENT
UID:1c0bac408d7fdf01ea01e8303e6384d2
DTSTAMP:20260424T050454Z
SUMMARY:SIA Executive Meeting
DESCRIPTION:Tidewater Jewish Foundation\nCalendar\nhttps://foundation.jewis
 hva.org/calendar/sia-executive-meeting-1667414728-421100\n\nVirtual meetin
 g
DTSTART;TZID=America/New_York:20230516T123000
DTEND;TZID=America/New_York:20230516T133000
END:VEVENT
END:VCALENDAR
