BEGIN:VCALENDAR
PRODID:-//eluceo/ical//2.0/EN
VERSION:2.0
CALSCALE:GREGORIAN
BEGIN:VEVENT
UID:0d7fe79d65c3f976504019df1e433628
DTSTAMP:20260423T164223Z
SUMMARY:SIA Executive Meeting Virtual
DESCRIPTION:Tidewater Jewish Foundation\nCalendar\nhttps://foundation.jewis
 hva.org/calendar/sia-executive-meeting-virtual-1688566187-442417\n\nSIA Ex
 ecutive Meeting
DTSTART;TZID=America/New_York:20230912T123000
DTEND;TZID=America/New_York:20230912T133000
END:VEVENT
END:VCALENDAR
