BEGIN:VCALENDAR
PRODID:-//eluceo/ical//2.0/EN
VERSION:2.0
CALSCALE:GREGORIAN
BEGIN:VEVENT
UID:517e86eb4d5aad3ea1361fe2d73c8f46
DTSTAMP:20260421T233118Z
SUMMARY:SIA Executive Meeting Virtual
DESCRIPTION:Tidewater Jewish Foundation\nCalendar\nhttps://foundation.jewis
 hva.org/calendar/sia-executive-meeting-virtual-1688566775-442419\n\nSIA Ex
 ecutive Meeting
DTSTART;TZID=America/New_York:20240116T123000
DTEND;TZID=America/New_York:20240116T133000
END:VEVENT
END:VCALENDAR
