BEGIN:VCALENDAR
PRODID:-//eluceo/ical//2.0/EN
VERSION:2.0
CALSCALE:GREGORIAN
BEGIN:VEVENT
UID:5e1ba1297c29e2435a28d1069dc551f9
DTSTAMP:20260421T174958Z
SUMMARY:SIA Executive Meeting Virtual
DESCRIPTION:Tidewater Jewish Foundation\nCalendar\nhttps://foundation.jewis
 hva.org/calendar/sia-executive-meeting-virtual-1688571576-442430\n\nNomina
 tion Committee Report
DTSTART;TZID=America/New_York:20240514T123000
DTEND;TZID=America/New_York:20240514T133000
END:VEVENT
END:VCALENDAR
