BEGIN:VCALENDAR
PRODID:-//eluceo/ical//2.0/EN
VERSION:2.0
CALSCALE:GREGORIAN
BEGIN:VEVENT
UID:65a9956b5a4f1fd3fc8429b1cea8d5ca
DTSTAMP:20260423T135840Z
SUMMARY:SIA VAIS Accreditation Visit
DESCRIPTION:Tidewater Jewish Foundation\nCalendar\nhttps://foundation.jewis
 hva.org/calendar/sia-vais-accreditation-visit-1688563921-442402\n\nVAIS Ac
 creditation Visit - BOD attend? Time to be determined later.
DTSTART;TZID=America/New_York:20240407T080000
DTEND;TZID=America/New_York:20240407T160000
END:VEVENT
END:VCALENDAR
