BEGIN:VCALENDAR
PRODID:-//eluceo/ical//2.0/EN
VERSION:2.0
CALSCALE:GREGORIAN
BEGIN:VEVENT
UID:c1255d8da8615793caabe4d0108a2aa9
DTSTAMP:20260420T235330Z
SUMMARY:SIA Virtual Executive Committee Meeting
DESCRIPTION:Tidewater Jewish Foundation\nCalendar\nhttps://foundation.jewis
 hva.org/calendar/sia-virtual-executive-committee-meeting-1725034243-475877
 \n\nSIA Virtual Executive Committee Meeting
DTSTART;TZID=America/New_York:20240919T123000
DTEND;TZID=America/New_York:20240919T133000
END:VEVENT
END:VCALENDAR
