BEGIN:VCALENDAR
PRODID:-//eluceo/ical//2.0/EN
VERSION:2.0
CALSCALE:GREGORIAN
BEGIN:VEVENT
UID:dbe2d034329b80851adbb649b2ab35fd
DTSTAMP:20260422T194940Z
SUMMARY:SIA Virtual Executive Committee Meeting
DESCRIPTION:Tidewater Jewish Foundation\nCalendar\nhttps://foundation.jewis
 hva.org/calendar/sia-virtual-executive-committee-meeting-1725034467-475881
 \n\nSIA Virtual Executive Committee Meeting
DTSTART;TZID=America/New_York:20241112T123000
DTEND;TZID=America/New_York:20241112T133000
END:VEVENT
END:VCALENDAR
