BEGIN:VCALENDAR
PRODID:-//eluceo/ical//2.0/EN
VERSION:2.0
CALSCALE:GREGORIAN
BEGIN:VEVENT
UID:d2fa7958c5b2ad0a3301deafb970b154
DTSTAMP:20260423T065804Z
SUMMARY:SIA’s 35th Annual Golf Tournament “Bob Josephberg Classic”
DESCRIPTION:Tidewater Jewish Foundation\nCalendar\nhttps://foundation.jewis
 hva.org/calendar/sias-35th-annual-golf-tournament-bob-josephberg-classic-1
 673985662-429320\n\nSIA’s 35th Annual Golf Tournament “Bob Josephberg 
 Classic” will be held on Wednesday\, August 30\, 2023 at Virginia Beach 
 National Golf Club\nContact: Carin Simon\, 757.424.4327\, csimon@strelitza
 cademy.org
DTSTART;TZID=America/New_York:20230830T120000
DTEND;TZID=America/New_York:20230830T170000
END:VEVENT
END:VCALENDAR
