BEGIN:VCALENDAR
PRODID:-//eluceo/ical//2.0/EN
VERSION:2.0
CALSCALE:GREGORIAN
BEGIN:VEVENT
UID:69fcea1ae2657cb4678b6c86dd0bf2ce
DTSTAMP:20260420T164224Z
SUMMARY:Soccer Shots Begins
DESCRIPTION:Tidewater Jewish Foundation\nCalendar\nhttps://foundation.jewis
 hva.org/calendar/soccer-shots-begins-476294\n\nSoccer Shots Details (Age 3
 -5)\n\n\nSoccer season can be year-round with Soccer Shots! Learn soccer f
 undamentals while building character development like teamwork\, respect\,
  and determination! For inclement weather and temps below 40 degrees\, pra
 ctice will be indoors in the gym.\n\nSeptember 25 - October 20\, 2024\nWed
 nesdays\, at 3:30 or 4:30\n$115 member • $145 guest\n\nFull Details & Re
 gistration\n\nIf you have any difficulty registering\, please do not hesit
 ate to contact us at 757-321-233...
DTSTART;TZID=America/New_York:20240925T000000
DTEND;TZID=America/New_York:20240925T235959
END:VEVENT
END:VCALENDAR
