BEGIN:VCALENDAR
PRODID:-//eluceo/ical//2.0/EN
VERSION:2.0
CALSCALE:GREGORIAN
BEGIN:VEVENT
UID:387d5722fe5eb1cf04b1024af687bdce
DTSTAMP:20260422T184341Z
SUMMARY:Sukkot with the Shinshinim
DESCRIPTION:Tidewater Jewish Foundation\nCalendar\nhttps://foundation.jewis
 hva.org/calendar/sukkot-with-the-shinshinim-1693589410-447351\n\nJoin Tide
 water&#39\;s Shinshinim\, Maya and Naomi\, for an evening in the Sandler F
 amily Campus&#39\; Sukkah\, where they will create Sukkah decorations\, ta
 lk about how Sukkout is celebrated in Israel\, dance to Sukkot tunes and e
 njoy a lovely kosher Pizza Dinner in the beautiful Sukkah.\n\nFor more inf
 ormation on this event\, contact Nofar Trem at ntrem@ujft.org.\n\nTo regis
 ter\, please allow page below to load...\n\n 
DTSTART;TZID=America/New_York:20231003T173000
DTEND;TZID=America/New_York:20231003T190000
END:VEVENT
END:VCALENDAR
