BEGIN:VCALENDAR
PRODID:-//eluceo/ical//2.0/EN
VERSION:2.0
CALSCALE:GREGORIAN
BEGIN:VEVENT
UID:e3592ac9a861e226703255b3c6ce669a
DTSTAMP:20260426T021609Z
SUMMARY:Sunday Fun Day
DESCRIPTION:Tidewater Jewish Foundation\nCalendar\nhttps://foundation.jewis
 hva.org/calendar/sunday-fun-day-1658419127-412855\n\nSunday Fun Day activi
 ties for the whole family. \n\n \n\nRegister Today!\n\n 
DTSTART;TZID=America/New_York:20221113T130000
DTEND;TZID=America/New_York:20221113T160000
END:VEVENT
END:VCALENDAR
