BEGIN:VCALENDAR
PRODID:-//eluceo/ical//2.0/EN
VERSION:2.0
CALSCALE:GREGORIAN
BEGIN:VEVENT
UID:5bc4c6e3943abf6b53c70cb335d2070a
DTSTAMP:20260424T151216Z
SUMMARY:Sunday Fun Day
DESCRIPTION:Tidewater Jewish Foundation\nCalendar\nhttps://foundation.jewis
 hva.org/calendar/sunday-fun-day-1658419394-412860\n\nJoin PJ Library in Ti
 dewater at a special Sunday Fun Day\, AT THE FARM!\n\nWe are taking Sunday
  Fun Day on location to Hunt Club Farm in Virginia Beach\, where we will e
 njoy an afternoon with friends and animals.\n\nRegister today to join in o
 n all of the barn yard fun!
DTSTART;TZID=America/New_York:20230521T130000
DTEND;TZID=America/New_York:20230521T160000
END:VEVENT
END:VCALENDAR
