BEGIN:VCALENDAR
PRODID:-//eluceo/ical//2.0/EN
VERSION:2.0
CALSCALE:GREGORIAN
BEGIN:VEVENT
UID:701f8e44bd3dc4fdb7063f2b8764468d
DTSTAMP:20260423T164058Z
SUMMARY:Sunday Fun Day
DESCRIPTION:Tidewater Jewish Foundation\nCalendar\nhttps://foundation.jewis
 hva.org/calendar/sunday-fun-day-1684507838-438816\n\nJoin PJ Library in Ti
 dewater at the Sander Family Campus outdoor waterpark for Sunday Fun Day!*
 \n\nPack the sunscreen and towel and enjoy an afternoon of fun under the s
 un with music\, water toys and a free snow cone from KONA ICE. There will 
 also be Kosher hot dogs and hamburgers poolside available for purchase.\n\
 nRegister at JewishVA.org/SundayFunday\n\nFor JCC members\, local synagogu
 es\, Strelitz families\, + Camp JCC Families. \n\n*In the chance of rain o
 r lightning\, the event will be cance...
DTSTART;TZID=America/New_York:20230604T130000
DTEND;TZID=America/New_York:20230604T160000
END:VEVENT
END:VCALENDAR
