BEGIN:VCALENDAR
PRODID:-//eluceo/ical//2.0/EN
VERSION:2.0
CALSCALE:GREGORIAN
BEGIN:VEVENT
UID:3d4728f3455d19522e96e8f3e0e7661d
DTSTAMP:20260422T072158Z
SUMMARY:Sunday Fun Day Movie
DESCRIPTION:Tidewater Jewish Foundation\nCalendar\nhttps://foundation.jewis
 hva.org/calendar/sunday-fun-day-2-446980\n\n>Movie day from 3-5. Concessio
 ns included. Registration required.\n\n\n\n 
DTSTART;TZID=America/New_York:20231112T150000
DTEND;TZID=America/New_York:20231112T170000
END:VEVENT
END:VCALENDAR
