BEGIN:VCALENDAR
PRODID:-//eluceo/ical//2.0/EN
VERSION:2.0
CALSCALE:GREGORIAN
BEGIN:VEVENT
UID:d1f96c2687cd3078a9f8ed1649bc1570
DTSTAMP:20260422T131728Z
SUMMARY:Super Sunday
DESCRIPTION:Tidewater Jewish Foundation\nCalendar\nhttps://foundation.jewis
 hva.org/calendar/super-sunday-1662041024-416369\n\nYour community is calli
 ng!\n\nSuper Sunday is a powerful day when volunteers\, donors\, and commu
 nity members come together to make a difference. It is the largest one-day
  phone-a-thon fundraising effort of the year\, with every gift supporting 
 our community’s 2024 Community Campaign.\n\nWe need your strength!\n\nVo
 lunteer to call donors for the 2024 Community Campaign\, make thank you ca
 lls\, and help with other Super Sunday activities.  Sign Up to Volunteer\
 n\nAnswer our call! \n\nMake a ple...
DTSTART;TZID=America/New_York:20230910T080000
DTEND;TZID=America/New_York:20230910T130000
END:VEVENT
END:VCALENDAR
