BEGIN:VCALENDAR
PRODID:-//eluceo/ical//2.0/EN
VERSION:2.0
CALSCALE:GREGORIAN
BEGIN:VEVENT
UID:c3ef202e0638fe12751e3109c33ecf88
DTSTAMP:20260423T203535Z
SUMMARY:Tamar Haspel -  Jewish Book Festival
DESCRIPTION:Tidewater Jewish Foundation\nCalendar\nhttps://foundation.jewis
 hva.org/calendar/tamar-haspel-jewish-book-festival-1654623702-408717\n\nTo
  Boldly Grow: Finding Joy\, Adventure\, and Dinner in Your Own Backyard\n\
 nVirtual - Watch from home\, link provided on registration\n\nJournalist a
 nd self-proclaimed "crappy gardener" Tamar Haspel shows us that raising or
  gathering our own food is not as hard as it seems.\n\nHaspel will take us
  on a journey as she goes from cluelessness to competence\, learning to sc
 rounge dinner from her surroundings and discovering that a connection to w
 hat we eat can change the way we think about food – a...
DTSTART;TZID=America/New_York:20230614T120000
DTEND;TZID=America/New_York:20230614T130000
END:VEVENT
END:VCALENDAR
