BEGIN:VCALENDAR
PRODID:-//eluceo/ical//2.0/EN
VERSION:2.0
CALSCALE:GREGORIAN
BEGIN:VEVENT
UID:8ea1ae3bcf2900e4d88b6e00d9f29239
DTSTAMP:20260425T172406Z
SUMMARY:Teen Dinner with Diana Fersko
DESCRIPTION:Tidewater Jewish Foundation\nCalendar\nhttps://foundation.jewis
 hva.org/calendar/teen-dinner-with-447291\n\nPresented as a part of the Uni
 ted Jewish Federation of Tidewater and Simon Family JCC&#39\;s Lee and Ber
 nard Jaffe Family Jewish Book Festival.\n\n(please wait for more to load b
 elow)
DTSTART;TZID=America/New_York:20231023T180000
DTEND;TZID=America/New_York:20231023T193000
END:VEVENT
END:VCALENDAR
