BEGIN:VCALENDAR
PRODID:-//eluceo/ical//2.0/EN
VERSION:2.0
CALSCALE:GREGORIAN
BEGIN:VEVENT
UID:ef74ee06c9aac89eae6da799468b0564
DTSTAMP:20260423T164228Z
SUMMARY:Temple Emanuel in Concert
DESCRIPTION:Tidewater Jewish Foundation\nCalendar\nhttps://foundation.jewis
 hva.org/calendar/temple-emanuel-in-concert-1691515735\n\nHigh Holidays Can
 tors' Concert
DTSTART;TZID=America/New_York:20230921T190000
DTEND;TZID=America/New_York:20230921T210000
END:VEVENT
END:VCALENDAR
