BEGIN:VCALENDAR
PRODID:-//eluceo/ical//2.0/EN
VERSION:2.0
CALSCALE:GREGORIAN
BEGIN:VEVENT
UID:50169c37401dc640705fcae6298eb10c
DTSTAMP:20260423T135850Z
SUMMARY:Temple Israel Fundraiser
DESCRIPTION:Tidewater Jewish Foundation\nCalendar\nhttps://foundation.jewis
 hva.org/calendar/temple-israel-fundraiser-1695996686-449333\n\nTemple Isra
 el fundraiser brunch with Bagels and Fraylox Klesmer band
DTSTART;TZID=America/New_York:20240414T000000
DTEND;TZID=America/New_York:20240414T000000
END:VEVENT
END:VCALENDAR
