BEGIN:VCALENDAR
PRODID:-//eluceo/ical//2.0/EN
VERSION:2.0
CALSCALE:GREGORIAN
BEGIN:VEVENT
UID:6b5f8f5b20499673dc78da8d33f11bc9
DTSTAMP:20260426T034728Z
SUMMARY:Mira Amiras : Malkah's Notebook  - Jewish Book Festival
DESCRIPTION:Tidewater Jewish Foundation\nCalendar\nhttps://foundation.jewis
 hva.org/calendar/tentative-jewish-book-festival-1654620727-408690\n\nMIRA 
 Z. AMIRAS\n\nMalkah’s Notebook : A Journey into the Mystical Aleph-Bet\n
 \nTuesday\, November 29\, 12:00 PM • Watch from Home - Register for th
 e link to join\n\n \n\nREGISTER TO ATTEND\n\n \n\nMalkah is a child when
  her father tries teaching her to read Torah. As Malkah studies\, she emba
 rks on a lifelong journey in search of her beginnings—into Jewish mystic
 al texts\, far-off places\, archaeological digs\, ancient gods\, and ultim
 ately into the nature of existence itself. With highly ...
DTSTART;TZID=America/New_York:20221129T120000
DTEND;TZID=America/New_York:20221129T130000
END:VEVENT
END:VCALENDAR
